BEGIN:VCALENDAR
VERSION:2.0
PRODID:-//Bikers Who Care - ECPv4.9.13//NONSGML v1.0//EN
CALSCALE:GREGORIAN
METHOD:PUBLISH
X-WR-CALNAME:Bikers Who Care
X-ORIGINAL-URL:https://bikerswhocare.org
X-WR-CALDESC:Events for Bikers Who Care
BEGIN:VTIMEZONE
TZID:UTC
BEGIN:STANDARD
TZOFFSETFROM:+0000
TZOFFSETTO:+0000
TZNAME:UTC
DTSTART:20220101T000000
END:STANDARD
END:VTIMEZONE
BEGIN:VEVENT
DTSTART;VALUE=DATE:20221014
DTEND;VALUE=DATE:20221015
DTSTAMP:20260420T210800
CREATED:20220922T132002Z
LAST-MODIFIED:20220922T132002Z
UID:1462-1665705600-1665791999@bikerswhocare.org
SUMMARY:Bikers Who Scare
DESCRIPTION: \n
URL:https://bikerswhocare.org/event/bikers-who-scare/
CATEGORIES:BWC
END:VEVENT
END:VCALENDAR